BEGIN:VCALENDAR
VERSION:2.0
PRODID:-//Right to Food Bangladesh - ECPv6.9.0//NONSGML v1.0//EN
CALSCALE:GREGORIAN
METHOD:PUBLISH
X-ORIGINAL-URL:https://rtfbangladesh.org
X-WR-CALDESC:Events for Right to Food Bangladesh
REFRESH-INTERVAL;VALUE=DURATION:PT1H
X-Robots-Tag:noindex
X-PUBLISHED-TTL:PT1H
BEGIN:VTIMEZONE
TZID:Asia/Dhaka
BEGIN:STANDARD
TZOFFSETFROM:+0600
TZOFFSETTO:+0600
TZNAME:+06
DTSTART:20230101T000000
END:STANDARD
END:VTIMEZONE
BEGIN:VEVENT
DTSTART;TZID=Asia/Dhaka:20230726T080000
DTEND;TZID=Asia/Dhaka:20230727T170000
DTSTAMP:20260424T042216
CREATED:20230325T094640Z
LAST-MODIFIED:20230724T093409Z
UID:1970-1690358400-1690477200@rtfbangladesh.org
SUMMARY:Asia Pacific Right to Food and Agrifood System Conference (APRAC) 2023
DESCRIPTION:APRAC Report_2023\n		\n			Message from admin.\n			January 4\, 2024.\n						Category: Document 		\n	\n	\n				\n\n		\n					\n			\n					\n		\n		APRAC Inaugural Session Details\n		\n			Message from admin.\n			July 23\, 2023.\n						Category: Document 		\n	\n	\n				\n\n		\n					\n			\n					\n		\n		APRAC Campaign Leaflet\n		\n			Message from admin.\n			July 8\, 2023.\n						Category: Document 		\n	\n	\n				\n\n		\n					\n			\n					\n		\n		Schedule of APRAC 2023\n		\n			Message from admin.\n			July 6\, 2023.\n						Category: Document 		\n	\n	\n				
URL:https://rtfbangladesh.org/event/asia-pacific-right-to-food-and-agrifood-system-conference-aprac-2023/
LOCATION:Nabab Nawab Ali Chowdhury Senate Bhaban\, University of Dhaka\, Dhaka\, 1000\, Bangladesh
CATEGORIES:Conference
ATTACH;FMTTYPE=image/jpeg:https://rtfbangladesh.org/wp-content/uploads/2023/01/event_rtf.jpg
ORGANIZER;CN="Right to Food Bangladesh":MAILTO:info@rtfbangladesh.org
END:VEVENT
END:VCALENDAR